BEGIN:VCALENDAR
VERSION:2.0
PRODID:spatie/icalendar-generator
DESCRIPTION:Events from Garden City Shopping Centre
X-WR-CALDESC:Events from Garden City Shopping Centre
REFRESH-INTERVAL;VALUE=DURATION:PT1440M
X-PUBLISHED-TTL:PT1440M
BEGIN:VTIMEZONE
TZID:America/Winnipeg
BEGIN:STANDARD
DTSTART:20251102T020000Z
TZOFFSETFROM:-0500
TZOFFSETTO:-0600
END:STANDARD
BEGIN:DAYLIGHT
DTSTART:20260308T020000Z
TZOFFSETFROM:-0600
TZOFFSETTO:-0500
END:DAYLIGHT
END:VTIMEZONE
BEGIN:VTIMEZONE
TZID:UTC
BEGIN:STANDARD
DTSTART:20250725T202950Z
TZOFFSETFROM:+0000
TZOFFSETTO:+0000
END:STANDARD
END:VTIMEZONE
BEGIN:VEVENT
UID:119-102
DTSTAMP:20260421T202950Z
SUMMARY:Spring Break
LOCATION:
ORGANIZER;CN=shopgardencity:MAILTO:rhyatt@mccor.ca
DTSTART;TZID=America/Winnipeg;VALUE=DATE:20260330
DTEND;TZID=America/Winnipeg;VALUE=DATE:20260404
X-ALT-DESC;FMTTYPE=TEXT/HTML:March 30th - April 3rd\, 2026 Looking for some
 thing fun to do with the kids this Spring Break? Join us daily for free ki
 d's activities all week long!  Each day will feature a fun interactive ev
 ent for your littles to try and experience. *Kids must be supervised at al
 l times by a designated adult. Supplies&amp;hellip\;
CATEGORIES:General
URL;VALUE=URI:https://www.shopgardencity.ca/mc-events/spring-breal-indoor-p
 etting-zoo/
METHOD:PUBLISH
END:VEVENT
END:VCALENDAR