BEGIN:VCALENDAR
VERSION:2.0
PRODID:spatie/icalendar-generator
DESCRIPTION:Events from Garden City Shopping Centre
X-WR-CALDESC:Events from Garden City Shopping Centre
REFRESH-INTERVAL;VALUE=DURATION:PT1440M
X-PUBLISHED-TTL:PT1440M
BEGIN:VTIMEZONE
TZID:America/Winnipeg
BEGIN:DAYLIGHT
DTSTART:20240310T020000Z
TZOFFSETFROM:-0600
TZOFFSETTO:-0500
END:DAYLIGHT
BEGIN:STANDARD
DTSTART:20241103T020000Z
TZOFFSETFROM:-0500
TZOFFSETTO:-0600
END:STANDARD
END:VTIMEZONE
BEGIN:VTIMEZONE
TZID:UTC
BEGIN:STANDARD
DTSTART:20250723T182740Z
TZOFFSETFROM:+0000
TZOFFSETTO:+0000
END:STANDARD
END:VTIMEZONE
BEGIN:VEVENT
UID:30-23
DTSTAMP:20260419T182740Z
SUMMARY:Fitness Class With Goodlife
LOCATION:
ORGANIZER;CN=shopgardencity:MAILTO:rhyatt@mccor.ca
DTSTART;TZID=America/Winnipeg:20240903T000000
DTEND;TZID=America/Winnipeg:20240903T010000
X-ALT-DESC;FMTTYPE=TEXT/HTML:September 3rd\, 2024 - 11:00am  Join instruct
 ors from Goodlife Fitness in Centre Court for a completely free fitness cl
 ass! Bring your comfy clothes\, shoes and a water bottle and have some fun
 ! Classes are completely free and registration is not required. *By partic
 ipating in the class you agree that Garden City Shopping Centre\, Goodlife
  Fitness&amp;hellip\;
CATEGORIES:General
URL;VALUE=URI:https://www.shopgardencity.ca/mc-events/fitness-class-with-go
 odlife-3/
METHOD:PUBLISH
END:VEVENT
END:VCALENDAR