BEGIN:VCALENDAR
VERSION:2.0
PRODID:spatie/icalendar-generator
DESCRIPTION:Events from Garden City Shopping Centre
X-WR-CALDESC:Events from Garden City Shopping Centre
REFRESH-INTERVAL;VALUE=DURATION:PT1440M
X-PUBLISHED-TTL:PT1440M
BEGIN:VTIMEZONE
TZID:America/Winnipeg
BEGIN:STANDARD
DTSTART:20241103T020000Z
TZOFFSETFROM:-0500
TZOFFSETTO:-0600
END:STANDARD
BEGIN:DAYLIGHT
DTSTART:20250309T020000Z
TZOFFSETFROM:-0600
TZOFFSETTO:-0500
END:DAYLIGHT
BEGIN:STANDARD
DTSTART:20251102T020000Z
TZOFFSETFROM:-0500
TZOFFSETTO:-0600
END:STANDARD
END:VTIMEZONE
BEGIN:VTIMEZONE
TZID:UTC
BEGIN:STANDARD
DTSTART:20250725T184600Z
TZOFFSETFROM:+0000
TZOFFSETTO:+0000
END:STANDARD
END:VTIMEZONE
BEGIN:VEVENT
UID:84-73
DTSTAMP:20260421T184600Z
SUMMARY:Bee Amazing Free Activites
LOCATION:
ORGANIZER;CN=shopgardencity:MAILTO:rhyatt@mccor.ca
DTSTART;TZID=America/Winnipeg:20250710T110000
DTEND;TZID=America/Winnipeg:20250710T120000
X-ALT-DESC;FMTTYPE=TEXT/HTML:Join some special characters every Thursday at
  11:00am all summer long for fun kid friendly activities\, games\, and sto
 ries.  July 3rd - Spiderman\, Spin\, and Ghost July 10th - Rapunzel and F
 lynn Ryder                                          
    &amp;hellip\;
CATEGORIES:General
URL;VALUE=URI:https://www.shopgardencity.ca/mc-events/bee-amazing-free-acti
 vites-2/
METHOD:PUBLISH
END:VEVENT
END:VCALENDAR